BEGIN:VCALENDAR
VERSION:2.0
PRODID:-//wp-events-plugin.com//7.2.3.1//EN
TZID:Europe/London
X-WR-TIMEZONE:Europe/London
BEGIN:VEVENT
UID:61@cityofprestonaquatics.club
DTSTART;TZID=Europe/London:20160702T083000
DTEND;TZID=Europe/London:20160702T210000
DTSTAMP:20160630T204058Z
URL:https://cityofprestonaquatics.club/events/warwickshire-championships/
SUMMARY:Warwickshire Championships
DESCRIPTION:\nEvent Details:\nSwimmers must be registered by 8.45.  Those 
 swimmers who are only swimming in age group combination teams can register
  at 10.00 am\; champs combo at 2.00pm.\n\nTiming will be tight\, so pleas
 e would all swimmers warm up in their black costumes and white hat\, and 
 after warm up stay on poolside so they can be put into their figure panels
 .  Team Managers need to make sure their swimmers have everything they ne
 ed whilst doing figures so they do not have to go back to changing room af
 ter warm up.\n\nAfter swimmers have swum their routine\, the announcer wil
 l announce their name and club on the swimmers swim off\; swimmers are ask
 ed to give a wave of acknowledgement as they get out of pool.\n\nAt the be
 ginning of each break\, Team Managers are asked to come to poolside to fin
 d out medallists and then have them ready on poolside\; we do not want to 
 go looking for swimmers or Team Managers.\nProgramme: view or download her
 e\nHouse rules:\n\n 	Only Team Managers are allowed in the changing rooms\
 n 	Please leave changing rooms clean and tidy at the end of the competitio
 n\n 	DO NOT leave anything behind\n 	we have just half an hour after the l
 ast medal ceremony and parade to vacate the building\n\nParking:\nThere ar
 e 2 multi storey car parks\, one of which is opposite pool\, fees I think 
 were £3.50 for the day.\nTimetable:\n\n\n\nFigures\nWarm up\n\nCompetitio
 n\n\n\n12/u\n9am - 9.10am\n\n9.20am - 10.20am\n\n\n\n\n\n\n\n\n13/15\n10.2
 0am - 10.30am\n10.40am - 11.40am\n\n\n\n\n\n\n\n\n15/18/Champ\n11.40am- 11
 .50am\n12pm - 12.45pm\n\n\n\n\n\n\n\n\nBREAK and FIGURE MEDALS\n\n12.45pm 
 - 1.15pm\n\n\n\n\n\n\n\n\nAge Group Combos\n\n\n1.15pm - 2.55pm\n\n\n\n\n\
 n\n\n\nBREAK and COMBO MEDALS\n\n2.55pm - 3.15pm\n\n\n\n\n\n\n\n\nSolos\n\
 n\n3.15pm - 4.55pm\n\n\n\n\n\n\n\n\nDuets\n\n\n5pm - 6.10pm\n\n\n\n\n\n\n\
 n\n BREAK and SOLO/DUET MEDALS\n\n\n6.10pm-6.30pm\n\n\n\n\n\n\n\n\nTeams\
 n\n\n6.30pm - 7.30pm\n\n\n\n\n\n\n\n\nChamps Combo\n\n\n7.45pm - 8pm\n\n\n
 \n\n\n\n\n\nFINAL PRESENTATIONS\n\n\n\n\n\n\n&nbsp\;
CATEGORIES:Competitions
LOCATION:Halesowen Leisure Centre\, Great Cornbow\, Halesowen\, West Midlan
 ds\, B63 3AF\, United Kingdom
GEO:52.44763142360751;-2.0492856147499197
X-APPLE-STRUCTURED-LOCATION;VALUE=URI;X-ADDRESS=Great Cornbow\, Halesowen\,
  West Midlands\, B63 3AF\, United Kingdom;X-APPLE-RADIUS=100;X-TITLE=Hales
 owen Leisure Centre:geo:52.44763142360751,-2.0492856147499197
END:VEVENT
BEGIN:VTIMEZONE
TZID:Europe/London
X-LIC-LOCATION:Europe/London
BEGIN:DAYLIGHT
DTSTART:20160327T020000
TZOFFSETFROM:+0000
TZOFFSETTO:+0100
TZNAME:BST
END:DAYLIGHT
END:VTIMEZONE
END:VCALENDAR