BEGIN:VCALENDAR
VERSION:2.0
PRODID:-//wp-events-plugin.com//7.2.3.1//EN
TZID:Europe/London
X-WR-TIMEZONE:Europe/London
BEGIN:VEVENT
UID:189@cityofprestonaquatics.club
DTSTART;TZID=Europe/London;VALUE=DATE:20190921
DTEND;TZID=Europe/London;VALUE=DATE:20190922
DTSTAMP:20190915T212707Z
URL:https://cityofprestonaquatics.club/events/synchro-grade-assessment-day
 -7/
SUMMARY:Synchro Grade Assessment Day
DESCRIPTION:\n 	Grade 1 registration 4:00pm\; land testing to start at 4:30
 pm\n 	Grades 2-5 registration  5:15pm\; land testing to start at 5:45pm\n
 \nThere will be an assessment fee of £17.50 for this grading.\n\nREMINDER
 : Plain black costume and white cap will be required for this event.
CATEGORIES:Grade Days,Synchronised Swimming
LOCATION:Irlam & Cadishead Leisure Centre\, Liverpool Road\, Irlam\, Greate
 r Manchester\, M44 6BR\, North West\, United Kingdom
GEO:53.44286656994071;-2.4220178380980997
X-APPLE-STRUCTURED-LOCATION;VALUE=URI;X-ADDRESS=Liverpool Road\, Irlam\, Gr
 eater Manchester\, M44 6BR\, North West\, United Kingdom;X-APPLE-RADIUS=10
 0;X-TITLE=Irlam & Cadishead Leisure Centre:geo:53.44286656994071,-2.422017
 8380980997
END:VEVENT
BEGIN:VTIMEZONE
TZID:Europe/London
X-LIC-LOCATION:Europe/London
BEGIN:DAYLIGHT
DTSTART:20190331T020000
TZOFFSETFROM:+0000
TZOFFSETTO:+0100
TZNAME:BST
END:DAYLIGHT
END:VTIMEZONE
END:VCALENDAR