BEGIN:VCALENDAR
VERSION:2.0
PRODID:-//wp-events-plugin.com//7.2.3.1//EN
TZID:Europe/London
X-WR-TIMEZONE:Europe/London
BEGIN:VEVENT
UID:158@cityofprestonaquatics.club
DTSTART;TZID=Europe/London:20180714T150000
DTEND;TZID=Europe/London:20180714T190000
DTSTAMP:20180710T211008Z
URL:https://cityofprestonaquatics.club/events/synchro-beacon-games/
SUMMARY:Synchro Beacon Games
DESCRIPTION:Official Swim England South East event page\n\nConfirmation Pac
 k\n\nA coach has been arranged to take synchro swimmers and parents from t
 he North West Region (not just City of Preston) to the event\, which takes
  place in Crawley\, Sussex.  There are two confirmed pick up points on th
 e 14th July as follows:\n\n 	6:45 am at West View Leisure Centre\, Preston
 \n 	7:45 am at Cadishead Leisure Centre\, Irlam\n\nThere will be a fee of 
 £14 per person\; please send cheques\, payable to 'ASA North West Region'
  to Fiona Haworth.  Non CoPA swimmers/parents can contact Fiona for her p
 ostal address via the contact form on this web site.
CATEGORIES:Competitions,Synchronised Swimming
LOCATION:K2 Leisure Centre\, Pease Pottage Hill\, Crawley\, Sussex\, RH11 9
 BQ\, United Kingdom
GEO:51.09700066974253;-0.19124009999995906
X-APPLE-STRUCTURED-LOCATION;VALUE=URI;X-ADDRESS=Pease Pottage Hill\, Crawle
 y\, Sussex\, RH11 9BQ\, United Kingdom;X-APPLE-RADIUS=100;X-TITLE=K2 Leisu
 re Centre:geo:51.09700066974253,-0.19124009999995906
END:VEVENT
BEGIN:VTIMEZONE
TZID:Europe/London
X-LIC-LOCATION:Europe/London
BEGIN:DAYLIGHT
DTSTART:20180325T020000
TZOFFSETFROM:+0000
TZOFFSETTO:+0100
TZNAME:BST
END:DAYLIGHT
END:VTIMEZONE
END:VCALENDAR