BEGIN:VCALENDAR
VERSION:2.0
PRODID:-//wp-events-plugin.com//7.2.3.1//EN
TZID:Europe/London
X-WR-TIMEZONE:Europe/London
BEGIN:VEVENT
UID:7@cityofprestonaquatics.club
DTSTART;TZID=Europe/London:20150207T160000
DTEND;TZID=Europe/London:20150207T210000
DTSTAMP:20150107T224836Z
URL:https://cityofprestonaquatics.club/events/skill-assessment-day-manches
 ter/
SUMMARY:Skill Assessment Day - Manchester
DESCRIPTION:
CATEGORIES:Grade Days
LOCATION:Manchester Aquatics Centre\, 2 Booth St East\, Ardwick\, Mancheste
 r\, Greater Manchester\, M13 9SS\, United Kingdom
GEO:53.4687864;-2.2348570000000336
X-APPLE-STRUCTURED-LOCATION;VALUE=URI;X-ADDRESS=2 Booth St East\, Ardwick\,
  Manchester\, Greater Manchester\, M13 9SS\, United Kingdom;X-APPLE-RADIUS
 =100;X-TITLE=Manchester Aquatics Centre:geo:53.4687864,-2.2348570000000336
END:VEVENT
BEGIN:VTIMEZONE
TZID:Europe/London
X-LIC-LOCATION:Europe/London
BEGIN:STANDARD
DTSTART:20141026T010000
TZOFFSETFROM:+0100
TZOFFSETTO:+0000
TZNAME:GMT
END:STANDARD
END:VTIMEZONE
END:VCALENDAR