BEGIN:VCALENDAR
VERSION:2.0
PRODID:-//wp-events-plugin.com//7.2.3.1//EN
TZID:Europe/London
X-WR-TIMEZONE:Europe/London
BEGIN:VEVENT
UID:8@cityofprestonaquatics.club
DTSTART;TZID=Europe/London:20150308T080000
DTEND;TZID=Europe/London:20150308T150000
DTSTAMP:20150107T224958Z
URL:https://cityofprestonaquatics.club/events/skill-assessment-day-knottin
 gley/
SUMMARY:Skill Assessment Day - Knottingley
DESCRIPTION:
CATEGORIES:Grade Days
LOCATION:Knottingley Sports Centre\, Hill Top\, Knottingley\, Yorkshire\, W
 F11 8EE\, United Kingdom
GEO:53.7090325;-1.2524917000000642
X-APPLE-STRUCTURED-LOCATION;VALUE=URI;X-ADDRESS=Hill Top\, Knottingley\, Yo
 rkshire\, WF11 8EE\, United Kingdom;X-APPLE-RADIUS=100;X-TITLE=Knottingley
  Sports Centre:geo:53.7090325,-1.2524917000000642
END:VEVENT
BEGIN:VTIMEZONE
TZID:Europe/London
X-LIC-LOCATION:Europe/London
BEGIN:STANDARD
DTSTART:20141026T010000
TZOFFSETFROM:+0100
TZOFFSETTO:+0000
TZNAME:GMT
END:STANDARD
END:VTIMEZONE
END:VCALENDAR