BEGIN:VCALENDAR
VERSION:2.0
PRODID:-//wp-events-plugin.com//7.2.3.1//EN
TZID:Europe/London
X-WR-TIMEZONE:Europe/London
BEGIN:VEVENT
UID:139@cityofprestonaquatics.club
DTSTART;TZID=Europe/London:20171202T123000
DTEND;TZID=Europe/London:20171202T153000
DTSTAMP:20171121T223343Z
URL:https://cityofprestonaquatics.club/events/new-fina-figure-technical-el
 ement-course/
SUMMARY:New FINA Synchro Figure/Technical Element Course
DESCRIPTION:A training course to help both swimmers and coaches to become f
 amiliar with the new FINA figures and technical elements.\n\nThere are two
  session times:\n\n 	12:30 - 14:00 for 12 &amp\; under and 13-15 figures\n
  	14:00 - 15:40 for junior elements\n\nSwimmers aged 15 in 2018 may attend
  both.
CATEGORIES:Synchronised Swimming,Training Courses
LOCATION:Broughton Leisure Centre\, Great Cheetham Street West\, Salford\, 
 Greater Manchester\, M7 2DN\, United Kingdom
GEO:53.501287639770744;-2.25919256057432
X-APPLE-STRUCTURED-LOCATION;VALUE=URI;X-ADDRESS=Great Cheetham Street West\
 , Salford\, Greater Manchester\, M7 2DN\, United Kingdom;X-APPLE-RADIUS=10
 0;X-TITLE=Broughton Leisure Centre:geo:53.501287639770744,-2.2591925605743
 2
END:VEVENT
BEGIN:VTIMEZONE
TZID:Europe/London
X-LIC-LOCATION:Europe/London
BEGIN:STANDARD
DTSTART:20171029T010000
TZOFFSETFROM:+0100
TZOFFSETTO:+0000
TZNAME:GMT
END:STANDARD
END:VTIMEZONE
END:VCALENDAR