BEGIN:VCALENDAR
VERSION:2.0
PRODID:-//wp-events-plugin.com//7.2.3.1//EN
TZID:Europe/London
X-WR-TIMEZONE:Europe/London
BEGIN:VEVENT
UID:108@cityofprestonaquatics.club
DTSTART;TZID=Europe/London:20170130T193000
DTEND;TZID=Europe/London:20170130T204500
DTSTAMP:20170123T201458Z
URL:https://cityofprestonaquatics.club/events/copa-committee-meeting/
SUMMARY:CoPA Committee Meeting
DESCRIPTION:
CATEGORIES:Meetings
LOCATION:West View Leisure Centre\, West View\, Preston\, Lancashire\, PR1 
 5EP\, United Kingdom
GEO:53.769375852395406;-2.680426561129707
X-APPLE-STRUCTURED-LOCATION;VALUE=URI;X-ADDRESS=West View\, Preston\, Lanca
 shire\, PR1 5EP\, United Kingdom;X-APPLE-RADIUS=100;X-TITLE=West View Leis
 ure Centre:geo:53.769375852395406,-2.680426561129707
END:VEVENT
BEGIN:VTIMEZONE
TZID:Europe/London
X-LIC-LOCATION:Europe/London
BEGIN:STANDARD
DTSTART:20161030T010000
TZOFFSETFROM:+0100
TZOFFSETTO:+0000
TZNAME:GMT
END:STANDARD
END:VTIMEZONE
END:VCALENDAR