BEGIN:VCALENDAR
VERSION:2.0
PRODID:-//wp-events-plugin.com//7.2.3.1//EN
TZID:Europe/London
X-WR-TIMEZONE:Europe/London
BEGIN:VEVENT
UID:48@cityofprestonaquatics.club
DTSTART;TZID=Europe/London:20151221T210000
DTEND;TZID=Europe/London:20151221T220000
DTSTAMP:20151214T233313Z
URL:https://cityofprestonaquatics.club/events/christmas-display-2/
SUMMARY:Christmas Display
DESCRIPTION:
CATEGORIES:Displays
LOCATION:West View Leisure Centre\, West View\, Preston\, Lancashire\, PR1 
 5EP\, United Kingdom
GEO:53.769375852395406;-2.680426561129707
X-APPLE-STRUCTURED-LOCATION;VALUE=URI;X-ADDRESS=West View\, Preston\, Lanca
 shire\, PR1 5EP\, United Kingdom;X-APPLE-RADIUS=100;X-TITLE=West View Leis
 ure Centre:geo:53.769375852395406,-2.680426561129707
END:VEVENT
BEGIN:VTIMEZONE
TZID:Europe/London
X-LIC-LOCATION:Europe/London
BEGIN:STANDARD
DTSTART:20151025T010000
TZOFFSETFROM:+0100
TZOFFSETTO:+0000
TZNAME:GMT
END:STANDARD
END:VTIMEZONE
END:VCALENDAR