BEGIN:VCALENDAR
VERSION:2.0
PRODID:-//wp-events-plugin.com//7.2.3.1//EN
TZID:Europe/London
X-WR-TIMEZONE:Europe/London
BEGIN:VEVENT
UID:24@cityofprestonaquatics.club
DTSTART;TZID=Europe/London;VALUE=DATE:20151204
DTEND;TZID=Europe/London;VALUE=DATE:20151207
DTSTAMP:20151121T162902Z
URL:https://cityofprestonaquatics.club/events/asa-national-age-groups-cham
 pionship-2015-2/
SUMMARY:ASA National Age Groups Championship 2015
DESCRIPTION:CoPA 'bath robes' with CoPA logo are available for swimmers to 
 borrow and wear whilst on poolside at this event.  Please see Fiona to re
 quest one.
CATEGORIES:Competitions
LOCATION:GL1 Leisure Centre\, Bruton Way\, Gloucester\, GL1 1DT\, United Ki
 ngdom
GEO:51.8619702;-2.2385176999999885
X-APPLE-STRUCTURED-LOCATION;VALUE=URI;X-ADDRESS=Bruton Way\, Gloucester\, G
 L1 1DT\, United Kingdom;X-APPLE-RADIUS=100;X-TITLE=GL1 Leisure Centre:geo:
 51.8619702,-2.2385176999999885
END:VEVENT
BEGIN:VTIMEZONE
TZID:Europe/London
X-LIC-LOCATION:Europe/London
BEGIN:STANDARD
DTSTART:20151025T010000
TZOFFSETFROM:+0100
TZOFFSETTO:+0000
TZNAME:GMT
END:STANDARD
END:VTIMEZONE
END:VCALENDAR