BEGIN:VCALENDAR
VERSION:2.0
PRODID:-//wp-events-plugin.com//7.2.3.1//EN
TZID:Europe/London
X-WR-TIMEZONE:Europe/London
BEGIN:VEVENT
UID:63@cityofprestonaquatics.club
DTSTART;TZID=Europe/London;VALUE=DATE:20161105
DTEND;TZID=Europe/London;VALUE=DATE:20161106
DTSTAMP:20160116T204137Z
URL:https://cityofprestonaquatics.club/events/asa-masters-championships/
SUMMARY:ASA Masters Championships
DESCRIPTION:
CATEGORIES:Competitions
LOCATION:Queen’s Diamond Jubilee Centre\, Bruce Williams Way\, Rugby\, Wa
 rwickshire\, CV22 5LJ\, United Kingdom
X-APPLE-STRUCTURED-LOCATION;VALUE=URI;X-ADDRESS=Bruce Williams Way\, Rugby\
 , Warwickshire\, CV22 5LJ\, United Kingdom;X-APPLE-RADIUS=100;X-TITLE=Quee
 n’s Diamond Jubilee Centre:geo:0,0
END:VEVENT
BEGIN:VTIMEZONE
TZID:Europe/London
X-LIC-LOCATION:Europe/London
BEGIN:STANDARD
DTSTART:20161030T010000
TZOFFSETFROM:+0100
TZOFFSETTO:+0000
TZNAME:GMT
END:STANDARD
END:VTIMEZONE
END:VCALENDAR