BEGIN:VCALENDAR
VERSION:2.0
PRODID:-//wp-events-plugin.com//7.2.3.1//EN
TZID:Europe/London
X-WR-TIMEZONE:Europe/London
BEGIN:VEVENT
UID:132@cityofprestonaquatics.club
DTSTART;TZID=Europe/London:20170924T113000
DTEND;TZID=Europe/London:20170924T133000
DTSTAMP:20170915T214943Z
URL:https://cityofprestonaquatics.club/events/additional-synchro-training/
SUMMARY:Additional Synchro Training
DESCRIPTION:Additional training for swimmers taking part in the North West 
 Synchro Championships.
CATEGORIES:Extra Training,Synchronised Swimming
LOCATION:Hutton Grammar School\, Liverpool Road\, Hutton\, Preston\, Lancas
 hire\, PR4 5SN\, United Kingdom
GEO:53.731747956831384;-2.7633816345878586
X-APPLE-STRUCTURED-LOCATION;VALUE=URI;X-ADDRESS=Liverpool Road\, Hutton\, P
 reston\, Lancashire\, PR4 5SN\, United Kingdom;X-APPLE-RADIUS=100;X-TITLE=
 Hutton Grammar School:geo:53.731747956831384,-2.7633816345878586
END:VEVENT
BEGIN:VTIMEZONE
TZID:Europe/London
X-LIC-LOCATION:Europe/London
BEGIN:DAYLIGHT
DTSTART:20170326T020000
TZOFFSETFROM:+0000
TZOFFSETTO:+0100
TZNAME:BST
END:DAYLIGHT
END:VTIMEZONE
END:VCALENDAR